BEGIN:VCALENDAR
VERSION:2.0
PRODID:-//Columbia Food &amp; Wine Festival - ECPv6.15.18//NONSGML v1.0//EN
CALSCALE:GREGORIAN
METHOD:PUBLISH
X-WR-CALNAME:Columbia Food &amp; Wine Festival
X-ORIGINAL-URL:https://colafoodandwine.com
X-WR-CALDESC:Events for Columbia Food &amp; Wine Festival
REFRESH-INTERVAL;VALUE=DURATION:PT1H
X-Robots-Tag:noindex
X-PUBLISHED-TTL:PT1H
BEGIN:VTIMEZONE
TZID:America/New_York
BEGIN:DAYLIGHT
TZOFFSETFROM:-0500
TZOFFSETTO:-0400
TZNAME:EDT
DTSTART:20230312T070000
END:DAYLIGHT
BEGIN:STANDARD
TZOFFSETFROM:-0400
TZOFFSETTO:-0500
TZNAME:EST
DTSTART:20231105T060000
END:STANDARD
BEGIN:DAYLIGHT
TZOFFSETFROM:-0500
TZOFFSETTO:-0400
TZNAME:EDT
DTSTART:20240310T070000
END:DAYLIGHT
BEGIN:STANDARD
TZOFFSETFROM:-0400
TZOFFSETTO:-0500
TZNAME:EST
DTSTART:20241103T060000
END:STANDARD
BEGIN:DAYLIGHT
TZOFFSETFROM:-0500
TZOFFSETTO:-0400
TZNAME:EDT
DTSTART:20250309T070000
END:DAYLIGHT
BEGIN:STANDARD
TZOFFSETFROM:-0400
TZOFFSETTO:-0500
TZNAME:EST
DTSTART:20251102T060000
END:STANDARD
END:VTIMEZONE
BEGIN:VEVENT
DTSTART;TZID=America/New_York:20240425T180000
DTEND;TZID=America/New_York:20240425T200000
DTSTAMP:20260424T044537
CREATED:20240215T055653Z
LAST-MODIFIED:20240306T214644Z
UID:10000010-1714068000-1714075200@colafoodandwine.com
SUMMARY:Collaborative Kitchen: Steel Hands Brewing
DESCRIPTION:Hosted at the Steel Shed at Steel Hands Brewing\, this exclusive fusion event features the robust flavors of craft beer and the vibrant zest of Mexican cuisine. We’ll celebrate a partnership that blends the best of local brewing and Mexican-American street food.  \nSteel Hands Brewing\, lauded as the 2023 Free Times Best Local Brewery in Columbia\, collaborates with Los Chicanos\, the much-loved food truck and two-time Best of Columbia awardee\, to bring you a private dinner experience like no other. \nThis intimate event\, led by Chef Nolan Cunningham\, will feature a mouthwatering tasting menu of five beer-infused culinary creations\, each paired with a selection of beers\, wines\, and craft cocktails. Among the stars of the night will be the newly released Tangerine Sour Ale\, a tantalizing brew that promises to add a citrusy punch to the evening’s fare. From a zesty appetizer to a decadent dessert infused with beer\, each course will showcase the harmonious blend of flavors that Steel Hands Brewing and Los Chicanos are celebrated for.
URL:https://colafoodandwine.com/event/collaborative-kitchen-steel-hands-brewing/
LOCATION:Steel Shed at Steel Hands Brewing
CATEGORIES:2024
ATTACH;FMTTYPE=image/jpeg:https://colafoodandwine.com/wp-content/uploads/2024/02/6.jpg
END:VEVENT
END:VCALENDAR