BEGIN:VCALENDAR
VERSION:2.0
PRODID:-//Columbia Food &amp; Wine Festival - ECPv6.15.18//NONSGML v1.0//EN
CALSCALE:GREGORIAN
METHOD:PUBLISH
X-WR-CALNAME:Columbia Food &amp; Wine Festival
X-ORIGINAL-URL:https://colafoodandwine.com
X-WR-CALDESC:Events for Columbia Food &amp; Wine Festival
REFRESH-INTERVAL;VALUE=DURATION:PT1H
X-Robots-Tag:noindex
X-PUBLISHED-TTL:PT1H
BEGIN:VTIMEZONE
TZID:America/New_York
BEGIN:DAYLIGHT
TZOFFSETFROM:-0500
TZOFFSETTO:-0400
TZNAME:EDT
DTSTART:20230312T070000
END:DAYLIGHT
BEGIN:STANDARD
TZOFFSETFROM:-0400
TZOFFSETTO:-0500
TZNAME:EST
DTSTART:20231105T060000
END:STANDARD
BEGIN:DAYLIGHT
TZOFFSETFROM:-0500
TZOFFSETTO:-0400
TZNAME:EDT
DTSTART:20240310T070000
END:DAYLIGHT
BEGIN:STANDARD
TZOFFSETFROM:-0400
TZOFFSETTO:-0500
TZNAME:EST
DTSTART:20241103T060000
END:STANDARD
BEGIN:DAYLIGHT
TZOFFSETFROM:-0500
TZOFFSETTO:-0400
TZNAME:EDT
DTSTART:20250309T070000
END:DAYLIGHT
BEGIN:STANDARD
TZOFFSETFROM:-0400
TZOFFSETTO:-0500
TZNAME:EST
DTSTART:20251102T060000
END:STANDARD
END:VTIMEZONE
BEGIN:VEVENT
DTSTART;TZID=America/New_York:20240424T180000
DTEND;TZID=America/New_York:20240424T210000
DTSTAMP:20260420T204415
CREATED:20240215T054546Z
LAST-MODIFIED:20240306T214709Z
UID:10000005-1713981600-1713992400@colafoodandwine.com
SUMMARY:Kickoff Dinner at Private Property Sponsored by Certified SC
DESCRIPTION:Begin your Columbia Food and Wine Festival journey with an evening that sets the bar for culinary excellence through an intimate dining experience. We’re thrilled to host our traditional kickoff dinner at one of Lexington’s cherished gems: Private Property. This exclusive event\, sponsored by Certified SC\, promises a delightful immersion into the heart of local flavors and community spirit. \nAs the sun sets over Lexington’s vibrant Main Street\, prepare to be whisked away on a gastronomic adventure expertly orchestrated by a trio of local culinary maestros. Trip Chalk of Private Property leads the charge and is known for his innovative approach and dedication to locally sourced ingredients. Joining him are two remarkable talents: Chris Williams of Roy’s Grille\, celebrated for his soulful\, Southern-inspired dishes\, and Mike Ellis\, the creative force behind some of Columbia’s most beloved establishments like Smoked\, The Grand on Main\, The Main Course\, Good Life Cafe\, The Players Club\, and 518 Smokehouse. \nTogether\, these chefs are set to present a menu that is not just a meal but a narrative of South Carolina’s rich culinary landscape. Expect a night filled with dishes that tell a story – from farm-fresh produce to coastal catches\, each course is a tribute to the diverse flavors of the region. \nThis event isn’t just a dinner; it’s a celebration of the community\, a nod to the artisans and growers\, and a toast to the culinary craftsmanship that Certified SC proudly champions. Limited seats are available for this exclusive event\, ensuring an intimate and immersive dining experience. \nJoin us for an evening where food\, community\, and passion converge\, setting the stage for an unforgettable festival week.
URL:https://colafoodandwine.com/event/kickoff-dinner-at-private-property-sponsored-by-certified-sc/
LOCATION:Private Property
CATEGORIES:2024
ATTACH;FMTTYPE=image/jpeg:https://colafoodandwine.com/wp-content/uploads/2024/02/1.jpg
END:VEVENT
BEGIN:VEVENT
DTSTART;TZID=America/New_York:20240424T180000
DTEND;TZID=America/New_York:20240424T200000
DTSTAMP:20260420T204415
CREATED:20240215T055053Z
LAST-MODIFIED:20240306T214731Z
UID:10000007-1713981600-1713988800@colafoodandwine.com
SUMMARY:Collaborative Kitchen: Hampton Street Vineyard\, Farmers Xchange\, Tom’s Creek Family Farm
DESCRIPTION:Join us for an enchanting evening at Hampton Street Vineyard\, where the farm’s bounty meets the chef’s imagination. This exclusive event is a collaboration that celebrates the union of local agriculture and culinary finesse\, featuring Farmers Xchange and Tom’s Creek Family Farm. \nAs the evening unfolds at HSV\, a venue renowned for its intimate ambiance and exquisite wine selection\, you’ll be part of a unique dining experience. On the menu\, the fresh produce of Farmers Xchange and Tom’s Creek Family Farm meets the quality\, French-inspired techniques of HSV to produce a culinary masterpiece. \nThe menu for the night is a creative exploration of local flavors\, crafted by HSV Chef Jamie Pyatt\, a master at turning fresh\, farm-grown ingredients into innovative and comforting dishes. Each course is paired thoughtfully with selections from HSV managing partner and advanced sommelier Jonathan Lopez\, ensuring a harmonious blend of flavors that dance on your palate.
URL:https://colafoodandwine.com/event/collaborative-kitchen-hampton-street-vineyard-farmers-xchange-toms-creek-family-farm/
LOCATION:HSV
CATEGORIES:2024
ATTACH;FMTTYPE=image/jpeg:https://colafoodandwine.com/wp-content/uploads/2024/02/3.jpg
END:VEVENT
BEGIN:VEVENT
DTSTART;TZID=America/New_York:20240424T180000
DTEND;TZID=America/New_York:20240424T200000
DTSTAMP:20260420T204415
CREATED:20240215T054957Z
LAST-MODIFIED:20240306T214803Z
UID:10000006-1713981600-1713988800@colafoodandwine.com
SUMMARY:Iconic Dishes of Columbia: Main Street Edition Sponsored by Main Street District
DESCRIPTION:Embark on a flavorful journey at the heart of Columbia as we introduce Iconic Dishes of Columbia\, sponsored by Main Street District. This new tasting event series will return to the festival schedule in future years. This new venture begins with a bang at the historic Arcade Building\, a landmark that speaks to the city’s charm and heritage. \nIndulge in a culinary showcase like no other. Your taste buds will be treated to an exclusive selection of iconic dishes handpicked from your favorite local restaurants. Each bite is a story\, a piece of culinary artistry that defines the city’s vibrant food landscape. \nComplementing these exquisite flavors will be an array of local brews and crafted cocktails\, courtesy of premium spirit provider Diageo.  \nThe Kickoff Tasting Event is more than just a sampling of food and drink; it’s a celebration of community\, history\, and the culinary flair that thrives in the Main Street District. This evening promises to delight\, inspire\, and kick off the festival week with an authentic taste of Columbia.
URL:https://colafoodandwine.com/event/iconic-dishes-of-columbia-main-street-edition-sponsored-by-main-street-district/
LOCATION:Arcade Mall
CATEGORIES:2024
ATTACH;FMTTYPE=image/jpeg:https://colafoodandwine.com/wp-content/uploads/2024/02/2.jpg
END:VEVENT
BEGIN:VEVENT
DTSTART;TZID=America/New_York:20240215T080000
DTEND;TZID=America/New_York:20240215T170000
DTSTAMP:20260420T204415
CREATED:20240215T061022Z
LAST-MODIFIED:20240304T213817Z
UID:10000017-1707984000-1708016400@colafoodandwine.com
SUMMARY:Columbia Food and Wine Festival
DESCRIPTION:Your Passport to Culinary Delight: Festival Week Tickets \nWelcome to the heart of culinary exploration at the Columbia Food and Wine Festival! The five-day festival includes a mosaic of diverse events\, each offering a unique taste of Columbia’s vibrant food and wine culture. This is your gateway to secure a spot at the table for an array of experiences that promise to tantalize your taste buds and enrich your culinary knowledge and skills. \nFrom the intimate kickoff dinner to the grand tasting\, classroom-style event\, and more — each festival day unfolds new flavors and unforgettable experiences. The ticket menu is carefully curated to offer a variety of events catering to all preferences\, whether you’re a connoisseur of local brews\, a taste tester of fine wines\, a lover of good eats\, or a fan of lively culinary celebrations.
URL:https://colafoodandwine.com/event/columbia-food-and-wine-festival/
CATEGORIES:2024
END:VEVENT
BEGIN:VEVENT
DTSTART;TZID=America/New_York:20240213T080000
DTEND;TZID=America/New_York:20240213T170000
DTSTAMP:20260420T204415
CREATED:20240213T074221Z
LAST-MODIFIED:20240304T213817Z
UID:10000002-1707811200-1707843600@colafoodandwine.com
SUMMARY:2023: Culinary Heights and Community Delights
DESCRIPTION:2023 saw the festival reach new heights in culinary innovation and com2023 saw the festival reach new heights in culinary innovation and community engagement. Visit the gallery to see how each dish and smile told a story.munity engagement. Visit the gallery to see how each dish and smile told a story.
URL:https://colafoodandwine.com/event/2023-culinary-heights-and-community-delights/
CATEGORIES:2024
ATTACH;FMTTYPE=image/jpeg:https://colafoodandwine.com/wp-content/uploads/2022/05/2022_grande_tasting_008.jpg
END:VEVENT
BEGIN:VEVENT
DTSTART;TZID=America/New_York:20240213T080000
DTEND;TZID=America/New_York:20240213T170000
DTSTAMP:20260420T204415
CREATED:20240213T074122Z
LAST-MODIFIED:20240304T213817Z
UID:10000001-1707811200-1707843600@colafoodandwine.com
SUMMARY:2022: A Flavorful Event
DESCRIPTION:Each new festival brings new tastes and experiences\, building on the success of the year prior. Dive into the gallery to relive these moments.
URL:https://colafoodandwine.com/event/2022-a-flavorful-event/
CATEGORIES:2024
ATTACH;FMTTYPE=image/jpeg:https://colafoodandwine.com/wp-content/uploads/2022/12/8bfZHVEU.jpeg
END:VEVENT
END:VCALENDAR